BEGIN:VCALENDAR
VERSION:2.0
PRODID:-//Siedlergemeinschaft Langenhorst e.V - ECPv6.15.17.1//NONSGML v1.0//EN
CALSCALE:GREGORIAN
METHOD:PUBLISH
X-WR-CALNAME:Siedlergemeinschaft Langenhorst e.V
X-ORIGINAL-URL:http://sg-langenhorst.de
X-WR-CALDESC:Veranstaltungen für Siedlergemeinschaft Langenhorst e.V
REFRESH-INTERVAL;VALUE=DURATION:PT1H
X-Robots-Tag:noindex
X-PUBLISHED-TTL:PT1H
BEGIN:VTIMEZONE
TZID:Europe/Berlin
BEGIN:DAYLIGHT
TZOFFSETFROM:+0100
TZOFFSETTO:+0200
TZNAME:CEST
DTSTART:20190331T010000
END:DAYLIGHT
BEGIN:STANDARD
TZOFFSETFROM:+0200
TZOFFSETTO:+0100
TZNAME:CET
DTSTART:20191027T010000
END:STANDARD
BEGIN:DAYLIGHT
TZOFFSETFROM:+0100
TZOFFSETTO:+0200
TZNAME:CEST
DTSTART:20200329T010000
END:DAYLIGHT
BEGIN:STANDARD
TZOFFSETFROM:+0200
TZOFFSETTO:+0100
TZNAME:CET
DTSTART:20201025T010000
END:STANDARD
BEGIN:DAYLIGHT
TZOFFSETFROM:+0100
TZOFFSETTO:+0200
TZNAME:CEST
DTSTART:20210328T010000
END:DAYLIGHT
BEGIN:STANDARD
TZOFFSETFROM:+0200
TZOFFSETTO:+0100
TZNAME:CET
DTSTART:20211031T010000
END:STANDARD
END:VTIMEZONE
BEGIN:VEVENT
DTSTART;TZID=Europe/Berlin:20200625T180000
DTEND;TZID=Europe/Berlin:20200625T190000
DTSTAMP:20260420T035040
CREATED:20200618T083631Z
LAST-MODIFIED:20200618T083631Z
UID:1373-1593108000-1593111600@sg-langenhorst.de
SUMMARY:Der Sperrmüll muss raus!
DESCRIPTION:Beim Ausmisten unseres Gemeinschaftshauses durch das Vorstandsteam ist einiges an Sperrmüll angefallen. Dieser wird am 26.06.2020 abgeholt und muss am Abend vorher an die Straße gestellt werden. \nDabei hoffen wir auf eure Hilfe!!! \nLos gehts am Donnerstag\, 25.06.2020 um 18.00 Uhr
URL:http://sg-langenhorst.de/event/der-sperrmuell-muss-raus/
LOCATION:Siedlergemeinschaft Langenhorst e.V.\, Langenhorster Straße 89\, Velbert\, 42551\, Deutschland
END:VEVENT
END:VCALENDAR